  BEGIN:VCALENDAR
VERSION:2.0
PRODID:-//eventon.com NONSGML v1.0//EN
CALSCALE:GREGORIAN
METHOD:PUBLISH
BEGIN:VEVENT
UID:69ed11ce25e54
DTSTAMP:20260425T191110Z
DTSTART:20260328T140000Z
DTEND:20260328T160000Z
LOCATION:
SUMMARY:Spring Fling!
DESCRIPTION:Spring Fling Saturday\,  March 28 2:00 p.m. &#8211; 4:00 p.m. C
 ircle Drive Calling all Stonebridge Ranch kids! Bring your Easter baskets a
 nd join us for a new take on an old favorite. Our Spring Fling will include
  train rides\,  costumed characters\,  free raffle drawings for stuffed ani
 mals\,  music\,  the Easter[..]\nhttps://stonebridgeranch.com/events/spring
 -fling/
URL:https://stonebridgeranch.com/events/spring-fling/
END:VEVENT
END:VCALENDAR