  BEGIN:VCALENDAR
VERSION:2.0
PRODID:-//eventon.com NONSGML v1.0//EN
CALSCALE:GREGORIAN
METHOD:PUBLISH
BEGIN:VEVENT
UID:69ed22f9b31fd
DTSTAMP:20260425T202425Z
DTSTART:20260129T150000Z
DTEND:20260129T163000Z
LOCATION:
SUMMARY:Coffee and Connect (Adult-Only Event)
DESCRIPTION:Coffee &amp; Connect Adult-Only Event Thursday\,  January 29\, 
  2026 9:00 a.m. &#8211; 10:30 p.m. Community Room &nbsp; This quarterly\,  
 informal gathering is your chance to meet General Manager Rachael Robinson 
 and members of the onsite team from RealManage Elevated Onsite. Enjoy coffe
 e and light breakfast treats\,  and spend some time[..]\nhttps://stonebridg
 eranch.com/events/coffee-and-connect-adult-only-event/
URL:https://stonebridgeranch.com/events/coffee-and-connect-adult-only-event/
END:VEVENT
END:VCALENDAR